Workbook
Name \0: #REF!
Name \0: #REF!
Name \0: #REF!
Name \0: #REF!
Name \0: #REF!
Name \z: #REF!
Name \z: #REF!
Name \z: #REF!
Name \z: #REF!
Name \z: #REF!
Name ____Key1: #REF!
Name ____Key1: #REF!
Name ____Key1: #REF!
Name ____Key1: #REF!
Name ____Key1: #REF!
Name ___CON1: #REF!
Name ___CON1: #REF!
Name ___CON1: #REF!
Name ___CON1: #REF!
Name ___CON1: #REF!
Name ___CON2: #REF!
Name ___CON2: #REF!
Name ___CON2: #REF!
Name ___CON2: #REF!
Name ___CON2: #REF!
Name ___Key1: #REF!
Name ___Key1: #REF!
Name ___Key1: #REF!
Name ___Key1: #REF!
Name ___Key1: #REF!
Name ___NET2: #REF!
Name ___NET2: #REF!
Name ___NET2: #REF!
Name ___NET2: #REF!
Name ___NET2: #REF!
Name __CON1: #REF!
Name __CON1: #REF!
Name __CON1: #REF!
Name __CON1: #REF!
Name __CON1: #REF!
Name __CON2: #REF!
Name __CON2: #REF!
Name __CON2: #REF!
Name __CON2: #REF!
Name __CON2: #REF!
Name __Key1: #REF!
Name __Key1: #REF!
Name __NET2: #REF!
Name __NET2: #REF!
Name __NET2: #REF!
Name __NET2: #REF!
Name __NET2: #REF!
Name _1: #REF!
Name _1: #REF!
Name _1: #REF!
Name _1: #REF!
Name _1: #REF!
Name _2: #REF!
Name _2: #REF!
Name _2: #REF!

Sheet dsTruong
A1: STT | B1: Tên đơn vị | C1: Tên viết tắt | D1: Loại trường | E1: STT
A2: 1 | B2: Trường THPT Bùi Thị Xuân | C2: BT_XUAN | D2: trường thường | E2: =A2 -> 1
A3: 2 | B3: Trường THPT Trưng Vương | C3: T_VUONG | D3: trường thường | E3: =A3 -> 2
A4: 3 | B4: Trường THPT chuyên Trần Đại Nghĩa | C4: TD_NGHIA | D4: trường chuyên | E4: =A4 -> 3
A5: 4 | B5: Trường THPT Ten Lơ Man | C5: TL_MAN | D5: trường thường | E5: =A5 -> 4
A6: 5 | B6: Trường THPT Giồng Ông Tố | C6: GO_TO | D6: trường thường | E6: =A6 -> 5
A7: 6 | B7: Trường THPT Thủ Thiêm | C7: T_THIEM | D7: trường thường | E7: =A7 -> 6
A8: 7 | B8: Trường THPT Lê Quý Đôn | C8: LQ_DON | D8: trường thường | E8: =A8 -> 7
A9: 8 | B9: Trường THPT Nguyễn Thị Minh Khai | C9: NTM_KHAI | D9: trường thường | E9: =A9 -> 8
A10: 9 | B10: Trường THPT Marie Curie | C10: MRC_RIE | D10: trường thường | E10: =A10 -> 9
A11: 10 | B11: Trường THPT Nguyễn Trãi | C11: N_TRAI | D11: trường thường | E11: =A11 -> 10
A12: 11 | B12: Trường THPT Nguyễn Hữu Thọ | C12: NH_THO | D12: trường thường | E12: =A12 -> 11
A13: 12 | B13: Trường THPT Hùng Vương | C13: H_VUONG | D13: trường thường | E13: =A13 -> 12
... A128: 127 | B128: Trung tâm GD KTTH và HN Lê Thị Hồng Gấm | C128: KTTH_LTHG | D128: trường thường | E128: =A128 -> 127
A129: 128 | B129: Trung tâm HTPTGDHN cho Người Khuyết tật | C129: K_TAT | E129: =A129 -> 128
A130: 129 | B130: Trường mầm non 19/5 thành phố | C130: MN_195 | E130: =A130 -> 129
A131: 130 | B131: Trường mầm non Nam Sài Gòn | C131: MN_NSG | E131: =A131 -> 130
A132: 131 | B132: Trường mầm non thành phố | C132: MN_TP | E132: =A132 -> 131
A133: 132 | B133: Trường Trung cấp Kinh tế - Kỹ thuật Nguyễn Hữu Cảnh | C133: TC_NHC | E133: =A133 -> 132
A134: 133 | B134: Trường Trung cấp Kỹ thuật và Nghiệp vụ Nam Sài Gòn | C134: TC_NSG | E134: =A134 -> 133
A135: 134 | B135: Trường Trung cấp Kinh tế-Kỹ thuật quận 12 | C135: TC_12 | E135: =A135 -> 134
A136: 135 | B136: Trường Trung cấp Kinh tế-Kỹ thuật Hóc Môn | C136: TC_HM | E136: =A136 -> 135
A137: 136 | B137: Trường Cao đẳng Kinh tế - Kỹ thuật Thành phố Hồ Chí Minh | C137: CD_PL | E137: =A137 -> 136
A138: 137 | B138: Trường Cao đẳng Kinh tế | C138: CD_KT | E138: =A138 -> 137
A139: 138 | B139: Trường Cao đẳng Kỹ thuật Lý Tự Trọng TP.HCM | C139: CD_LTT | E139: =A139 -> 138
A140: 139 | B140: Trường Cao đẳng Công nghệ Thủ Đức | C140: CD_TD | E140: =A140 -> 139
A141: 140 | B141: Trường PTĐB Nguyễn Đình Chiểu | C141: PTDB_NDC | E141: =A141 -> 140
A142: 141 | B142: Báo Giáo dục TPHCM
A143: 142 | B143: Trung tâm Ngoại ngữ - Tin học
A144: 143 | B144: Trung tâm Thông tin và Chương trình giáo dục
A145: 144 | B145: Ban Quản lý đầu tư xây dựng các công trình thuộc Sở
A146: 145
A147: 146
A148: 147
A149: 148
A150: 149
A151: 150
A152: 151
A153: 152
A154: 153
A155: 154
A156: 155
A157: 156
... A201: 200

Sheet Mẫu THPT và GDTX
B1: BÁO CÁO TÌNH NHÂN SỰ NĂM HỌC 2015 -2016
B3: Tên đơn vị: | E3: Trường THPT Lý Tự Trọng | Z3: Mô hình đơn vị: | AC3: =IFERROR(INDEX(dsTruong!$D$2:$D$150,MATCH('Mẫu THPT và GDTX'!E3,dsTruong!$B$2:$B$150,0)),"")
B4: Địa chỉ đơn vị: | E4: 390 Hoàng Văn Thụ, phường 4, quận Tân Bình, Thành phố Hồ Chí Minh | Z4: Tổng số lớp: | AB4: =C17 -> 19 | AC4: ="lớp thường "&IF(SUM(E17,G17,I17,K17)=0,"","(có "&SUM(E17,G17,I17,K17)&" lớp TCNN)")&IF(AC1=0,""," + "&AC1&" lớp chuyên")&" [ hạng "&IF(AC3="giáo dục thường xuyên",IF(AB4>=40,3,IF(AB4>=28,5,IF(AB4>=18,6,7))),IF(SUM(AB4,AC1)>=40,": ngoại hạng",IF(SUM(AB4,AC1)>=28,1,IF(SUM(AB4,AC1)>=18,2,3))))&" ]" -> lớp thường [ hạng 2 ]
B5: Số điện thoại liên lạc: | E5: 38119857 | J5: Cấp học: | L5: THPT | O5: Số buổi học: | Q5: 1 buổi | Z5: Tổng nhân sự: | AC5: =COUNTA(E20:J23)&" CBQL + "&C49&" GV + "&S41&" CNV" -> 3 CBQL + 36 GV + 15 CNV
A6: THÔNG TIN TRƯỜNG LỚP
C7: Lớp thường: bao gồm lớp tăng cường NN và không tính lớp chuyên
B8: Số lượng | C8: Lớp thường | E8: TC T.Anh | G8: TC T.Pháp | I8: TC T.Nhật | K8: TC T.Hoa | M8: chuyên Toán | O8: chuyên Lý | Q8: chuyên Hóa | S8: chuyên Sinh | U8: chuyên Tin | W8: chuyên Văn | Y8: chuyên Sử | AA8: chuyên Địa | AC8: chuyên Anh | AE8: chuyên … | AG8: chuyên … | AI8: chuyên … | AK8: chuyên …
C9: lớp | D9: HS | E9: lớp | F9: HS | G9: lớp | H9: HS | I9: lớp | J9: HS | K9: lớp | L9: HS | M9: lớp | N9: HS | O9: lớp | P9: HS | Q9: lớp | R9: HS | S9: lớp | T9: HS | U9: lớp | V9: HS | W9: lớp | X9: HS | Y9: lớp | Z9: HS | AA9: lớp | AB9: HS | AC9: lớp | AD9: HS | AE9: lớp | AF9: HS | AG9: lớp | AH9: HS | AI9: lớp | AJ9: HS | AK9: lớp | AL9: HS
B10: Khối 12 | C10: 10 | D10: 422
B11: Khối 11 | C11: 9 | D11: 355
B12: Khối 10
B13: Khối 9
B14: Khối 8
B15: Khối 7
B16: Khối 6
B17: Tổng | C17: =SUM(C10:C16) -> 19 | D17: =SUM(D10:D16) -> 777 | E17: =SUM(E10:E16) -> 0 | F17: =SUM(F10:F16) -> 0 | G17: =SUM(G10:G16) -> 0 | H17: =SUM(H10:H16) -> 0 | I17: =SUM(I10:I16) -> 0 | J17: =SUM(J10:J16) -> 0 | ... AL17: =SUM(AL10:AL16) -> 0
A18: THÔNG TIN CÁN BỘ QUẢN LÝ - PHỤ TRÁCH
B19: Chức danh | E19: Họ tên | K19: Ngày sinh | N19: Nữ | O19: Ngày bổ nhiệm (1) | R19: Trình độ CM | U19: Trình độ LLCT | X19: Trình độ QLGD | AA19: Điện thoại di động | AD19: Địa chỉ nơi ở
B20: Hiệu trưởng/GĐ | E20: Phạm Hữu Lộc | K20: 24163 | O20: 41883 | R20: Tiến sĩ | U20: Cao cấp | X20: có chứng chỉ QLGD | AA20: 0903 828 252 | AD20: 80/59/27 Dương Quảng Hàm, P.5, Q. Gò Vấp, TPHCM
B21: Phó Hiệu trưởng/PGĐ | E21: Nguyễn Văn Dũng | K21: 21553 | O21: 38485 | R21: Thác sĩ | U21: Cử nhân | X21: có chứng chỉ QLGD | AA21: 0903382784 | AD21: 172 Phan Huy Ích, P.12, Q.Gò Vấp, TPHCM
B22: Phó Hiệu trưởng/PGĐ | E22: Đinh Văn Đệ | K22: 27253 | O22: 42027 | R22: Tiến sĩ | U22: chưa có | X22: chưa có chứng chỉ QLGD | AA22: 0918 216 994 | AD22: 130 Lê Lợi, P.3, Q. Gò Vấp, TPHCM
B23: Phó Hiệu trưởng/PGĐ
B24: Trợ lý thanh niên | E24: Võ Minh Phương | K24: 31099 | O24: 42252 | R24: Đại học | U24: Trung cấp | X24: chưa có chứng chỉ QLGD | AA24: 01633014069 | AD24: 491/17 Trường Chinh, P.14, Q.Tân Bình, TPHCM
B25: Chủ tịch Công đoàn | E25: Phạm Minh Nghĩa | K25: 23598 | O25: 41117 | R25: Thác sĩ | U25: chưa có | X25: có chứng chỉ QLGD | AA25: 0903348055 | AD25: 350/30C Hoàng Văn Thụ, P.4, Q.Tân Bình, TPHCM
B26: Phụ trách kế toán | E26: Nguyễn Kính | K26: 03/12/1965 | O26: 02/02/2016 | R26: Thác sĩ | U26: chưa có | X26: chưa có chứng chỉ QLGD | AA26: 0913667668 | AD26: 402/43 Xô Viết Nghệ Tĩnh, P. 25, Q.Bình Thạnh, TPHCM
A27: THÔNG TIN GIÁO VIÊN | P27: THÔNG TIN NHÂN VIÊN
B28: Môn | C28: Hiện có | D28: Trình độ | G28: đạt chuẩn (2) | H28: Về hưu (3) | I28: Định mức | K28: So với hiện tại | M28: Đề nghị bổ sung | P28: Nhiệm vụ | S28: Hiện có | T28: Biên chế | U28: Hợp đồng | V28: HĐ 68 | W28: Trình độ chuyên môn | AA28: Định mức | AB28: Đề nghị bổ sung | AD28: Lưu ý:
D29: CĐ | E29: ĐH | F29: SĐH | I29: Thường | J29: Chuyên | K29: Thừa | L29: Thiếu | W29: Sơ cấp | X29: Trung cấp | Y29: CĐ - ĐH | Z29: Sau ĐH | AD29: - Không nhập vào ô | AI29: hay ô viền đỏ
B30: Văn | C30: =SUM(D30:F30) -> 6 | E30: 5 | F30: 1 | I30: =IF($AC$3="giáo dục thường xuyên",IFERROR(INDEX(heso_LOP_GDTX!$G$5:$G$14,MATCH('Mẫu THPT và GDTX'!B30,heso_LOP_GDTX!$A$5:$A$14,0))*SUM('Mẫu THPT và GDTX'!$C$13:$C$16)+INDEX(heso_LOP_GDTX!$L$5:$L$14,MATCH('Mẫu THPT và GDTX'!B30,heso_LOP_GDTX!$A$5:$A$14,0))*SUM('Mẫu THPT và GDTX'!$C$10:$C$12),""),IFERROR(INDEX(heso_LOP_thuong!$G$5:$G$19,MATCH('Mẫu THPT và GDTX'!B30,heso_LOP_thuong!$A$5:$A$19,0))*SUM('Mẫu THPT và GDTX'!$C$13:$C$16)+INDEX(heso_LOP_thuong!$L$5:$L$19,MATCH('Mẫu THPT và GDTX'!B30,heso_LOP_thuong!$A$5:$A$19,0))*SUM('Mẫu THPT và GDTX'!$C$10:$C$12),"")) -> 5.75 | J30: =IFERROR(INDEX(heso_LOPchuyen!$L$5:$L$19,MATCH('Mẫu THPT và GDTX'!B30,heso_LOPchuyen!$A$5:$A$19,0))*W17,"") -> 0 | K30: =IF(C30="",0,IF(SUM(I30:J30)-C30<0,C30-SUM(I30:J30),0)) -> 0.25 | L30: =IF(C30="",0,IF(SUM(I30:J30)-C30>0,C30-SUM(I30:J30),0)) -> 0 | P30: Học vụ | S30: 1 | T30: 1 | Y30: 1 | AA30: =IF(S41>0, IF($AC$3="trường chuyên",2,0),"") -> 0 | AD30: - Khi nhập vào ô mà có bên phải ô có hình thì click chọn
B31: Sử | C31: =SUM(D31:F31) -> 4 | E31: 4 | I31: =IF($AC$3="giáo dục thường xuyên",IFERROR(INDEX(heso_LOP_GDTX!$G$5:$G$14,MATCH('Mẫu THPT và GDTX'!B31,heso_LOP_GDTX!$A$5:$A$14,0))*SUM('Mẫu THPT và GDTX'!$C$13:$C$16)+INDEX(heso_LOP_GDTX!$L$5:$L$14,MATCH('Mẫu THPT và GDTX'!B31,heso_LOP_GDTX!$A$5:$A$14,0))*SUM('Mẫu THPT và GDTX'!$C$10:$C$12),""),IFERROR(INDEX(heso_LOP_thuong!$G$5:$G$19,MATCH('Mẫu THPT và GDTX'!B31,heso_LOP_thuong!$A$5:$A$19,0))*SUM('Mẫu THPT và GDTX'!$C$13:$C$16)+INDEX(heso_LOP_thuong!$L$5:$L$19,MATCH('Mẫu THPT và GDTX'!B31,heso_LOP_thuong!$A$5:$A$19,0))*SUM('Mẫu THPT và GDTX'!$C$10:$C$12),"")) -> 2 | J31: =IFERROR(INDEX(heso_LOPchuyen!$L$5:$L$19,MATCH('Mẫu THPT và GDTX'!B31,heso_LOPchuyen!$A$5:$A$19,0))*Y17,"") -> 0 | K31: =IF(C31="",0,IF(SUM(I31:J31)-C31<0,C31-SUM(I31:J31),0)) -> 2 | L31: =IF(C31="",0,IF(SUM(I31:J31)-C31>0,C31-SUM(I31:J31),0)) -> 0 | P31: Y tế | S31: 1 | T31: 1 | AA31: =IF(S41>0,IF($AC$3="trường chuyên",2,1),"") -> 1 | AD31: - Giải thích thêm:
B32: Địa | C32: =1 -> 1 | E32: 1 | I32: =IF($AC$3="giáo dục thường xuyên",IFERROR(INDEX(heso_LOP_GDTX!$G$5:$G$14,MATCH('Mẫu THPT và GDTX'!B32,heso_LOP_GDTX!$A$5:$A$14,0))*SUM('Mẫu THPT và GDTX'!$C$13:$C$16)+INDEX(heso_LOP_GDTX!$L$5:$L$14,MATCH('Mẫu THPT và GDTX'!B32,heso_LOP_GDTX!$A$5:$A$14,0))*SUM('Mẫu THPT và GDTX'!$C$10:$C$12),""),IFERROR(INDEX(heso_LOP_thuong!$G$5:$G$19,MATCH('Mẫu THPT và GDTX'!B32,heso_LOP_thuong!$A$5:$A$19,0))*SUM('Mẫu THPT và GDTX'!$C$13:$C$16)+INDEX(heso_LOP_thuong!$L$5:$L$19,MATCH('Mẫu THPT và GDTX'!B32,heso_LOP_thuong!$A$5:$A$19,0))*SUM('Mẫu THPT và GDTX'!$C$10:$C$12),"")) -> 2 | J32: =IFERROR(INDEX(heso_LOPchuyen!$L$5:$L$19,MATCH('Mẫu THPT và GDTX'!B32,heso_LOPchuyen!$A$5:$A$19,0))*AA17,"") -> 0 | K32: =IF(C32="",0,IF(SUM(I32:J32)-C32<0,C32-SUM(I32:J32),0)) -> 0 | L32: =IF(C32="",0,IF(SUM(I32:J32)-C32>0,C32-SUM(I32:J32),0)) -> -1 | P32: Kế toán | S32: 1 | T32: 1 | AA32: =IF(S41>0,1,"") -> 1 | AE32: (1): Ngày bổ nhiệm lần đầu tại đơn vị hiện tại
B33: GDCD | C33: 2 | E33: 1 | F33: 1 | I33: =IF($AC$3="giáo dục thường xuyên",IFERROR(INDEX(heso_LOP_GDTX!$G$5:$G$14,MATCH('Mẫu THPT và GDTX'!B33,heso_LOP_GDTX!$A$5:$A$14,0))*SUM('Mẫu THPT và GDTX'!$C$13:$C$16)+INDEX(heso_LOP_GDTX!$L$5:$L$14,MATCH('Mẫu THPT và GDTX'!B33,heso_LOP_GDTX!$A$5:$A$14,0))*SUM('Mẫu THPT và GDTX'!$C$10:$C$12),""),IFERROR(INDEX(heso_LOP_thuong!$G$5:$G$19,MATCH('Mẫu THPT và GDTX'!B33,heso_LOP_thuong!$A$5:$A$19,0))*SUM('Mẫu THPT và GDTX'!$C$13:$C$16)+INDEX(heso_LOP_thuong!$L$5:$L$19,MATCH('Mẫu THPT và GDTX'!B33,heso_LOP_thuong!$A$5:$A$19,0))*SUM('Mẫu THPT và GDTX'!$C$10:$C$12),"")) -> 1.5 | K33: =IF(C33="",0,IF(SUM(I33:J33)-C33<0,C33-SUM(I33:J33),0)) -> 0.5 | L33: =IF(C33="",0,IF(SUM(I33:J33)-C33>0,C33-SUM(I33:J33),0)) -> 0 | P33: Thủ quỹ | AA33: =IF(S41>0,IF(OR(AC3="trường chuyên",AND(LEFT(AC3,13)="trường thường",(AB4+AC1)>=40)),1,0),"") -> 0 | AE33: (2): số lượng GV tiếng Anh đạt chuẩn Châu Âu
B34: Ngoại ngữ | C34: 3 | E34: 3 | I34: =IF($AC$3="giáo dục thường xuyên",IFERROR(INDEX(heso_LOP_GDTX!$G$5:$G$14,MATCH('Mẫu THPT và GDTX'!B34,heso_LOP_GDTX!$A$5:$A$14,0))*SUM('Mẫu THPT và GDTX'!$C$13:$C$16)+INDEX(heso_LOP_GDTX!$L$5:$L$14,MATCH('Mẫu THPT và GDTX'!B34,heso_LOP_GDTX!$A$5:$A$14,0))*SUM('Mẫu THPT và GDTX'!$C$10:$C$12),""),IFERROR(INDEX(heso_LOP_thuong!$G$5:$G$19,MATCH('Mẫu THPT và GDTX'!B34,heso_LOP_thuong!$A$5:$A$19,0))*SUM('Mẫu THPT và GDTX'!$C$13:$C$16)+INDEX(heso_LOP_thuong!$L$5:$L$19,MATCH('Mẫu THPT và GDTX'!B34,heso_LOP_thuong!$A$5:$A$19,0))*SUM('Mẫu THPT và GDTX'!$C$10:$C$12),"")) -> 5.5 | J34: =IFERROR(INDEX(heso_LOPchuyen!$L$5:$L$19,MATCH('Mẫu THPT và GDTX'!B34,heso_LOPchuyen!$A$5:$A$19,0))*AC17,"") -> 0 | K34: =IF(C34="",0,IF(SUM(I34:J34)-C34<0,C34-SUM(I34:J34),0)) -> 0 | L34: =IF(C34="",0,IF(SUM(I34:J34)-C34>0,C34-SUM(I34:J34),0)) -> -2.5 | P34: Thư viện | S34: 1 | T34: 1 | AA34: =IF(S41>0,IF($AC$3="trường chuyên",2,1),"") -> 1 | AE34: (3): số lượng GV về hưu trong năm học 2015-2016 đến hết T12/2016
B35: Toán | C35: 4 | E35: 3 | F35: 1 | I35: =IF($AC$3="giáo dục thường xuyên",IFERROR(INDEX(heso_LOP_GDTX!$G$5:$G$14,MATCH('Mẫu THPT và GDTX'!B35,heso_LOP_GDTX!$A$5:$A$14,0))*SUM('Mẫu THPT và GDTX'!$C$13:$C$16)+INDEX(heso_LOP_GDTX!$L$5:$L$14,MATCH('Mẫu THPT và GDTX'!B35,heso_LOP_GDTX!$A$5:$A$14,0))*SUM('Mẫu THPT và GDTX'!$C$10:$C$12),""),IFERROR(INDEX(heso_LOP_thuong!$G$5:$G$19,MATCH('Mẫu THPT và GDTX'!B35,heso_LOP_thuong!$A$5:$A$19,0))*SUM('Mẫu THPT và GDTX'!$C$13:$C$16)+INDEX(heso_LOP_thuong!$L$5:$L$19,MATCH('Mẫu THPT và GDTX'!B35,heso_LOP_thuong!$A$5:$A$19,0))*SUM('Mẫu THPT và GDTX'!$C$10:$C$12),"")) -> 6 | J35: =IFERROR(INDEX(heso_LOPchuyen!$L$5:$L$19,MATCH('Mẫu THPT và GDTX'!B35,heso_LOPchuyen!$A$5:$A$19,0))*M17,"") -> 0 | K35: =IF(C35="",0,IF(SUM(I35:J35)-C35<0,C35-SUM(I35:J35),0)) -> 0 | L35: =IF(C35="",0,IF(SUM(I35:J35)-C35>0,C35-SUM(I35:J35),0)) -> -2 | P35: Văn thư | S35: 1 | T35: 1 | Y35: 1 | AA35: =IF(S41>0,IF(OR(AC3="trường chuyên",AND(LEFT(AC3,13)="trường thường",(AB4+AC1)>=40)),1,0),"") -> 0 | AD35: * Đối với khối THPT: Tổng số GV = Tổng số lớp * 2,25 (hoặc *3,1 đối với lớp chuyên biệt)
B36: Lý | C36: 3 | E36: 2 | F36: 1 | I36: =IF($AC$3="giáo dục thường xuyên",IFERROR(INDEX(heso_LOP_GDTX!$G$5:$G$14,MATCH('Mẫu THPT và GDTX'!B36,heso_LOP_GDTX!$A$5:$A$14,0))*SUM('Mẫu THPT và GDTX'!$C$13:$C$16)+INDEX(heso_LOP_GDTX!$L$5:$L$14,MATCH('Mẫu THPT và GDTX'!B36,heso_LOP_GDTX!$A$5:$A$14,0))*SUM('Mẫu THPT và GDTX'!$C$10:$C$12),""),IFERROR(INDEX(heso_LOP_thuong!$G$5:$G$19,MATCH('Mẫu THPT và GDTX'!B36,heso_LOP_thuong!$A$5:$A$19,0))*SUM('Mẫu THPT và GDTX'!$C$13:$C$16)+INDEX(heso_LOP_thuong!$L$5:$L$19,MATCH('Mẫu THPT và GDTX'!B36,heso_LOP_thuong!$A$5:$A$19,0))*SUM('Mẫu THPT và GDTX'!$C$10:$C$12),"")) -> 4 | J36: =IFERROR(INDEX(heso_LOPchuyen!$L$5:$L$19,MATCH('Mẫu THPT và GDTX'!B36,heso_LOPchuyen!$A$5:$A$19,0))*O17,"") -> 0 | K36: =IF(C36="",0,IF(SUM(I36:J36)-C36<0,C36-SUM(I36:J36),0)) -> 0 | L36: =IF(C36="",0,IF(SUM(I36:J36)-C36>0,C36-SUM(I36:J36),0)) -> -1 | P36: Thiết bị | AA36: =IF(S41>0,IF(AC3="giáo dục thường xuyên",IF(AB4<18,0.5,1),IF(OR(AC3="trường chuyên",AB4>=28),2,1)),"") -> 1 | AD36: * Đối với khối GDTX: Tổng số GV = Tổng số lớp * 1,5 (tạm tính)
B37: Hóa | C37: 3 | E37: 1 | F37: 2 | I37: =IF($AC$3="giáo dục thường xuyên",IFERROR(INDEX(heso_LOP_GDTX!$G$5:$G$14,MATCH('Mẫu THPT và GDTX'!B37,heso_LOP_GDTX!$A$5:$A$14,0))*SUM('Mẫu THPT và GDTX'!$C$13:$C$16)+INDEX(heso_LOP_GDTX!$L$5:$L$14,MATCH('Mẫu THPT và GDTX'!B37,heso_LOP_GDTX!$A$5:$A$14,0))*SUM('Mẫu THPT và GDTX'!$C$10:$C$12),""),IFERROR(INDEX(heso_LOP_thuong!$G$5:$G$19,MATCH('Mẫu THPT và GDTX'!B37,heso_LOP_thuong!$A$5:$A$19,0))*SUM('Mẫu THPT và GDTX'!$C$13:$C$16)+INDEX(heso_LOP_thuong!$L$5:$L$19,MATCH('Mẫu THPT và GDTX'!B37,heso_LOP_thuong!$A$5:$A$19,0))*SUM('Mẫu THPT và GDTX'!$C$10:$C$12),"")) -> 4 | J37: =IFERROR(INDEX(heso_LOPchuyen!$L$5:$L$19,MATCH('Mẫu THPT và GDTX'!B37,heso_LOPchuyen!$A$5:$A$19,0))*Q17,"") -> 0 | K37: =IF(C37="",0,IF(SUM(I37:J37)-C37<0,C37-SUM(I37:J37),0)) -> 0 | L37: =IF(C37="",0,IF(SUM(I37:J37)-C37>0,C37-SUM(I37:J37),0)) -> -1 | P37: Thí nghiệm | S37: 1 | T37: 1 | Y37: 1 | AA37: =IF(S41>0,IF($AC$3="trường chuyên",2,0),"") -> 0 | AD37: * Thông tư liên tịch 35/2006/TTLB-BGDĐT-BNV ngày 23/08/2006 về hướng dẫn định mức biên chế viên chức ở các cơ sở giáo dục phổ thông công lập
B38: Sinh | C38: 2 | E38: 2 | I38: =IF($AC$3="giáo dục thường xuyên",IFERROR(INDEX(heso_LOP_GDTX!$G$5:$G$14,MATCH('Mẫu THPT và GDTX'!B38,heso_LOP_GDTX!$A$5:$A$14,0))*SUM('Mẫu THPT và GDTX'!$C$13:$C$16)+INDEX(heso_LOP_GDTX!$L$5:$L$14,MATCH('Mẫu THPT và GDTX'!B38,heso_LOP_GDTX!$A$5:$A$14,0))*SUM('Mẫu THPT và GDTX'!$C$10:$C$12),""),IFERROR(INDEX(heso_LOP_thuong!$G$5:$G$19,MATCH('Mẫu THPT và GDTX'!B38,heso_LOP_thuong!$A$5:$A$19,0))*SUM('Mẫu THPT và GDTX'!$C$13:$C$16)+INDEX(heso_LOP_thuong!$L$5:$L$19,MATCH('Mẫu THPT và GDTX'!B38,heso_LOP_thuong!$A$5:$A$19,0))*SUM('Mẫu THPT và GDTX'!$C$10:$C$12),"")) -> 3 | J38: =IFERROR(INDEX(heso_LOPchuyen!$L$5:$L$19,MATCH('Mẫu THPT và GDTX'!B38,heso_LOPchuyen!$A$5:$A$19,0))*S17,"") -> 0 | K38: =IF(C38="",0,IF(SUM(I38:J38)-C38<0,C38-SUM(I38:J38),0)) -> 0 | L38: =IF(C38="",0,IF(SUM(I38:J38)-C38>0,C38-SUM(I38:J38),0)) -> -1 | P38: Phục vụ | S38: 3 | U38: 3 | AA38: =IF(S41>0,2,"") -> 2
B39: KTCN | C39: 1 | E39: 1 | I39: =IF($AC$3="giáo dục thường xuyên",IFERROR(INDEX(heso_LOP_GDTX!$G$5:$G$14,MATCH("Công nghệ",heso_LOP_GDTX!$A$5:$A$14,0))*$C$14+INDEX(heso_LOP_GDTX!$L$5:$L$14,MATCH("Công nghệ",heso_LOP_GDTX!$A$5:$A$14,0))*SUM($C$10,$C$11),""),IFERROR(INDEX(heso_LOP_thuong!$G$5:$G$19,MATCH("Công nghệ",heso_LOP_thuong!$A$5:$A$19,0))*$C$14+INDEX(heso_LOP_thuong!$L$5:$L$19,MATCH("Công nghệ",heso_LOP_thuong!$A$5:$A$19,0))*SUM('Mẫu THPT và GDTX'!$C$10:$C$11),"")) -> 2 | K39: =IF(C39="",0,IF(SUM(I39:J39)-C39<0,C39-SUM(I39:J39),0)) -> 0 | L39: =IF(C39="",0,IF(SUM(I39:J39)-C39>0,C39-SUM(I39:J39),0)) -> -1 | P39: Bảo vệ | S39: 2 | U39: 2 | AA39: =IF(S41>0,2,"") -> 2 | AD39: * Thông tư liên tịch 59/2008/TTBGDĐT ngày 31/10/2008 của Bộ Giáo dục và Đào tạo về hướng dẫn định mức biên chế sự nghiêp giáo dục ở các trường chuyên biệt công lâp.
B40: KTNN | I40: =IF($AC$3="giáo dục thường xuyên",IFERROR(INDEX(heso_LOP_GDTX!$G$5:$G$14,MATCH("Công nghệ",heso_LOP_GDTX!$A$5:$A$14,0))*$C$15+INDEX(heso_LOP_GDTX!$L$5:$L$14,MATCH("Công nghệ",heso_LOP_GDTX!$A$5:$A$14,0))*SUM($C$12),""),IFERROR(INDEX(heso_LOP_thuong!$G$5:$G$19,MATCH("Công nghệ",heso_LOP_thuong!$A$5:$A$19,0))*$C$15+INDEX(heso_LOP_thuong!$L$5:$L$19,MATCH("Công nghệ",heso_LOP_thuong!$A$5:$A$19,0))*SUM('Mẫu THPT và GDTX'!$C$12),"")) -> 0 | K40: =IF(C40="",0,IF(SUM(I40:J40)-C40<0,C40-SUM(I40:J40),0)) -> 0 | L40: =IF(C40="",0,IF(SUM(I40:J40)-C40>0,C40-SUM(I40:J40),0)) -> 0 | S40: 4 | T40: 1 | U40: 3 | X40: 1 | Y40: 3
B41: KTNC | I41: =IF($AC$3="giáo dục thường xuyên",IFERROR(INDEX(heso_LOP_GDTX!$G$5:$G$14,MATCH("Công nghệ",heso_LOP_GDTX!$A$5:$A$14,0))*SUM($C$16,$C$13),""),IFERROR(INDEX(heso_LOP_thuong!$G$5:$G$19,MATCH("Công nghệ",heso_LOP_thuong!$A$5:$A$19,0))*SUM($C$16,$C$13),"")) -> 0 | K41: =IF(C41="",0,IF(SUM(I41:J41)-C41<0,C41-SUM(I41:J41),0)) -> 0 | L41: =IF(C41="",0,IF(SUM(I41:J41)-C41>0,C41-SUM(I41:J41),0)) -> 0 | P41: Tổng | S41: =SUM(S30:S40) -> 15 | T41: =SUM(T30:T40) -> 7 | U41: =SUM(U30:U40) -> 8 | V41: =SUM(V30:V40) -> 0 | W41: =SUM(W30:W40) -> 0 | X41: =SUM(X30:X40) -> 1 | Y41: =SUM(Y30:Y40) -> 6 | Z41: =SUM(Z30:Z40) -> 0 | ... AC41: =SUM(AC30:AC40) -> 0
B42: Thể dục | C42: 5 | E42: 5 | I42: =IF($AC$3="giáo dục thường xuyên",IFERROR(INDEX(heso_LOP_GDTX!$G$5:$G$14,MATCH('Mẫu THPT và GDTX'!B42,heso_LOP_GDTX!$A$5:$A$14,0))*SUM('Mẫu THPT và GDTX'!$C$13:$C$16)+INDEX(heso_LOP_GDTX!$L$5:$L$14,MATCH('Mẫu THPT và GDTX'!B42,heso_LOP_GDTX!$A$5:$A$14,0))*SUM('Mẫu THPT và GDTX'!$C$10:$C$12),""),IFERROR(INDEX(heso_LOP_thuong!$G$5:$G$19,MATCH('Mẫu THPT và GDTX'!B42,heso_LOP_thuong!$A$5:$A$19,0))*SUM('Mẫu THPT và GDTX'!$C$13:$C$16)+INDEX(heso_LOP_thuong!$L$5:$L$19,MATCH('Mẫu THPT và GDTX'!B42,heso_LOP_thuong!$A$5:$A$19,0))*SUM('Mẫu THPT và GDTX'!$C$10:$C$12),"")) -> 3 | K42: =IF(C42="",0,IF(SUM(I42:J42)-C42<0,C42-SUM(I42:J42),0)) -> 2 | L42: =IF(C42="",0,IF(SUM(I42:J42)-C42>0,C42-SUM(I42:J42),0)) -> 0
B43: Quốc phòng | I43: =IF($AC$3="giáo dục thường xuyên",IFERROR(INDEX(heso_LOP_GDTX!$G$5:$G$14,MATCH('Mẫu THPT và GDTX'!B43,heso_LOP_GDTX!$A$5:$A$14,0))*SUM('Mẫu THPT và GDTX'!$C$13:$C$16)+INDEX(heso_LOP_GDTX!$L$5:$L$14,MATCH('Mẫu THPT và GDTX'!B43,heso_LOP_GDTX!$A$5:$A$14,0))*SUM('Mẫu THPT và GDTX'!$C$10:$C$12),""),IFERROR(INDEX(heso_LOP_thuong!$G$5:$G$19,MATCH('Mẫu THPT và GDTX'!B43,heso_LOP_thuong!$A$5:$A$19,0))*SUM('Mẫu THPT và GDTX'!$C$13:$C$16)+INDEX(heso_LOP_thuong!$L$5:$L$19,MATCH('Mẫu THPT và GDTX'!B43,heso_LOP_thuong!$A$5:$A$19,0))*SUM('Mẫu THPT và GDTX'!$C$10:$C$12),"")) -> 1.5 | K43: =IF(C43="",0,IF(SUM(I43:J43)-C43<0,C43-SUM(I43:J43),0)) -> 0 | L43: =IF(C43="",0,IF(SUM(I43:J43)-C43>0,C43-SUM(I43:J43),0)) -> 0 | P43: Kiến nghị: | AH43: Ngày 11 tháng 3 năm 2016
B44: Tin học | C44: 2 | E44: 2 | I44: =IF($AC$3="giáo dục thường xuyên",IFERROR(INDEX(heso_LOP_GDTX!$G$5:$G$14,MATCH('Mẫu THPT và GDTX'!B44,heso_LOP_GDTX!$A$5:$A$14,0))*SUM('Mẫu THPT và GDTX'!$C$13:$C$16)+INDEX(heso_LOP_GDTX!$L$5:$L$14,MATCH('Mẫu THPT và GDTX'!B44,heso_LOP_GDTX!$A$5:$A$14,0))*SUM('Mẫu THPT và GDTX'!$C$10:$C$12),""),IFERROR(INDEX(heso_LOP_thuong!$G$5:$G$19,MATCH('Mẫu THPT và GDTX'!B44,heso_LOP_thuong!$A$5:$A$19,0))*SUM('Mẫu THPT và GDTX'!$C$13:$C$16)+INDEX(heso_LOP_thuong!$L$5:$L$19,MATCH('Mẫu THPT và GDTX'!B44,heso_LOP_thuong!$A$5:$A$19,0))*SUM('Mẫu THPT và GDTX'!$C$10:$C$12),"")) -> 2.5 | J44: =IFERROR(INDEX(heso_LOPchuyen!$L$5:$L$19,MATCH('Mẫu THPT và GDTX'!B44,heso_LOPchuyen!$A$5:$A$19,0))*U17,"") -> 0 | K44: =IF(C44="",0,IF(SUM(I44:J44)-C44<0,C44-SUM(I44:J44),0)) -> 0 | L44: =IF(C44="",0,IF(SUM(I44:J44)-C44>0,C44-SUM(I44:J44),0)) -> -0.5 | AH44: THỦ TRƯỞNG ĐƠN VỊ
B45: Tâm lý GD | I45: =IF(AB4>0,1,"") -> 1 | K45: =IF(C45="",0,IF(SUM(I45:J45)-C45<0,C45-SUM(I45:J45),0)) -> 0 | L45: =IF(C45="",0,IF(SUM(I45:J45)-C45>0,C45-SUM(I45:J45),0)) -> 0
B46: Âm nhạc | I46: =IF($AC$3="giáo dục thường xuyên",IFERROR(INDEX(heso_LOP_GDTX!$G$5:$G$14,MATCH('Mẫu THPT và GDTX'!B46,heso_LOP_GDTX!$A$5:$A$14,0))*SUM('Mẫu THPT và GDTX'!$C$13:$C$16)+INDEX(heso_LOP_GDTX!$L$5:$L$14,MATCH('Mẫu THPT và GDTX'!B46,heso_LOP_GDTX!$A$5:$A$14,0))*SUM('Mẫu THPT và GDTX'!$C$10:$C$12),""),IFERROR(INDEX(heso_LOP_thuong!$G$5:$G$19,MATCH('Mẫu THPT và GDTX'!B46,heso_LOP_thuong!$A$5:$A$19,0))*SUM('Mẫu THPT và GDTX'!$C$13:$C$16)+INDEX(heso_LOP_thuong!$L$5:$L$19,MATCH('Mẫu THPT và GDTX'!B46,heso_LOP_thuong!$A$5:$A$19,0))*SUM('Mẫu THPT và GDTX'!$C$10:$C$12),"")) -> 0 | K46: =IF(C46="",0,IF(SUM(I46:J46)-C46<0,C46-SUM(I46:J46),0)) -> 0 | L46: =IF(C46="",0,IF(SUM(I46:J46)-C46>0,C46-SUM(I46:J46),0)) -> 0
B47: Mỹ thuật | I47: =IF($AC$3="giáo dục thường xuyên",IFERROR(INDEX(heso_LOP_GDTX!$G$5:$G$14,MATCH('Mẫu THPT và GDTX'!B47,heso_LOP_GDTX!$A$5:$A$14,0))*SUM('Mẫu THPT và GDTX'!$C$13:$C$16)+INDEX(heso_LOP_GDTX!$L$5:$L$14,MATCH('Mẫu THPT và GDTX'!B47,heso_LOP_GDTX!$A$5:$A$14,0))*SUM('Mẫu THPT và GDTX'!$C$10:$C$12),""),IFERROR(INDEX(heso_LOP_thuong!$G$5:$G$19,MATCH('Mẫu THPT và GDTX'!B47,heso_LOP_thuong!$A$5:$A$19,0))*SUM('Mẫu THPT và GDTX'!$C$13:$C$16)+INDEX(heso_LOP_thuong!$L$5:$L$19,MATCH('Mẫu THPT và GDTX'!B47,heso_LOP_thuong!$A$5:$A$19,0))*SUM('Mẫu THPT và GDTX'!$C$10:$C$12),"")) -> 0 | K47: =IF(C47="",0,IF(SUM(I47:J47)-C47<0,C47-SUM(I47:J47),0)) -> 0 | L47: =IF(C47="",0,IF(SUM(I47:J47)-C47>0,C47-SUM(I47:J47),0)) -> 0
I48: =IF($AC$3="giáo dục thường xuyên",IFERROR(INDEX(heso_LOP_GDTX!$G$5:$G$14,MATCH('Mẫu THPT và GDTX'!B48,heso_LOP_GDTX!$A$5:$A$14,0))*SUM('Mẫu THPT và GDTX'!$C$13:$C$16)+INDEX(heso_LOP_GDTX!$L$5:$L$14,MATCH('Mẫu THPT và GDTX'!B48,heso_LOP_GDTX!$A$5:$A$14,0))*SUM('Mẫu THPT và GDTX'!$C$10:$C$12),""),IFERROR(INDEX(heso_LOP_thuong!$G$5:$G$19,MATCH('Mẫu THPT và GDTX'!B48,heso_LOP_thuong!$A$5:$A$19,0))*SUM('Mẫu THPT và GDTX'!$C$13:$C$16)+INDEX(heso_LOP_thuong!$L$5:$L$19,MATCH('Mẫu THPT và GDTX'!B48,heso_LOP_thuong!$A$5:$A$19,0))*SUM('Mẫu THPT và GDTX'!$C$10:$C$12),"")) | K48: =IF(C48="",0,IF(SUM(I48:J48)-C48<0,C48-SUM(I48:J48),0)) -> 0 | L48: =IF(C48="",0,IF(SUM(I48:J48)-C48>0,C48-SUM(I48:J48),0)) -> 0
B49: Tổng | C49: =SUM(C30:C48) -> 36 | D49: =SUM(D30:D48) -> 0 | E49: =SUM(E30:E48) -> 30 | F49: =SUM(F30:F48) -> 6 | G49: =SUM(G30:G48) -> 0 | H49: =SUM(H30:H48) -> 0 | I49: =SUM(I30:I48) -> 43.75 | J49: =SUM(J30:J48) -> 0 | ... N49: =SUM(N30:N48) -> 0

Sheet Mẫu TCCN và CĐ
A1: SỞ GIÁO DỤC VÀ ĐÀO TẠO | N1: STT | O1: 138
A2: =IF(ISERROR(VLOOKUP(O1,[1]dsTruong!$A$1:$B$193,2,0)),"Nhập STT trường vào ô 'M1', tên đơn vị sẽ được tự động nhập vào (xem STT tại Sheet 'dsTruong')",VLOOKUP(O1,[1]dsTruong!$A$1:$B$193,2,0)) -> Trường Cao đẳng Kỹ thuật Lý Tự Trọng TP.HCM
A3: ="BẢNG TỔNG HỢP TÌNH HÌNH NHÂN SỰ NĂM HỌC "&YEAR(TODAY())-1&"-"&YEAR(TODAY())&" VÀ KẾ HOẠCH NHÂN SỰ NĂM HỌC "&YEAR(TODAY())&"-"&YEAR(TODAY())+1 -> BẢNG TỔNG HỢP TÌNH HÌNH NHÂN SỰ NĂM HỌC 2015-2016 VÀ KẾ HOẠCH NHÂN SỰ NĂM HỌC 2016-2017
B4: 1. Số lớp, số học sinh, sinh viên:
E6: Cao đẳng | G6: Trung cấp chuyên nghiệp | I6: Trung cấp nghề + Cao đẳng nghề | K6: Ngắn hạn | M6: Trung học phổ thông
E7: Số lớp | F7: Tổng số HSSV | G7: Số lớp | H7: Tổng số HSSV | I7: Số lớp | J7: Tổng số HSSV | K7: Số lớp | L7: Tổng số HSSV | M7: Số lớp | N7: Số lớp | O7: Tổng số HS
A8: 1 | B8: Kinh tế | M8: Lớp 6
A9: 2 | B9: Thương mại - Du lịch | M9: Lớp 7
A10: 3 | B10: Ngoại ngữ | M10: Lớp 8
A11: 4 | B11: Kế toán-Tài chính | I11: 4 | J11: 177 | M11: Lớp 9
A12: 5 | B12: Thống kê | M12: Lớp 10
A13: 6 | B13: CNTT | E13: 22 | F13: 1232 | G13: 6 | H13: 272 | I13: 4 | J13: 212 | K13: 50 | L13: 1699 | M13: Lớp 11 | N13: 9 | O13: 355
A14: 7 | B14: Cơ khí | E14: 25 | F14: 1434 | I14: 4 | J14: 188 | K14: 18 | L14: 179 | M14: Lớp 12 | N14: 10 | O14: 422
A15: 8 | B15: Điện-Điện tử | E15: 33 | F15: 1835 | G15: 2 | H15: 100 | I15: 3 | J15: 129 | K15: 5 | L15: 75 | M15: Cộng: | N15: =SUM(N8:N14) -> 19 | O15: =SUM(O8:O14) -> 777
A16: 9 | B16: Điện CN | G16: 4 | H16: 216 | I16: 3 | J16: 134
A17: 10 | B17: Điện lạnh | E17: 13 | F17: 626 | G17: 4 | H17: 154 | I17: 3 | J17: 137
A18: 11 | B18: Nhiệt lạnh
A19: 12 | B19: Kỹ thuật Ôtô | E19: 29 | F19: 1568 | G19: 4 | H19: 226 | I19: 5 | J19: 263 | K19: 2 | L19: 20
A20: 13 | B20: May | E20: 8 | F20: 463 | G20: 3 | H20: 110 | I20: 4 | J20: 164
A21: 14 | B21: Thiết kế thời trang
A22: 15 | B22: Thư ký
A23: 16 | B23: Thương mại
A24: 17 | B24: QTKD
A25: 18 | B25: Xây dựng
A26: 19 | B26: Mộc
A27: 20 | B27: May
A28: 21 | B28: Dinh dưỡng
A29: 22 | B29: Kỹ thuật hàn
A30: 23 | B30: Lái xe
A31: 24 | B31: Tiện - Hàn | G31: 3 | H31: 145
A32: 25 | B32: Tài chính ngân hàng
A33: 26 | B33: Nhà hàng - Khách sạn
A34: 27 | B34: Pháp lý
A35: 28 | B35: Điều dưỡng
A36: 29 | B36: Cơ khí bảo dưỡng
A37: 30 | B37: Quản trị doanh nghiệp vừa và nhỏ | I37: 3 | J37: 105
A38: 31 | B38: Kỹ thuật mạng ngoại vi và thiết bị đầu cuối | I38: 2 | J38: 85
A39: Cộng: | E39: =SUM(E8:E38) -> 130 | F39: =SUM(F8:F38) -> 7158 | G39: =SUM(G8:G38) -> 26 | H39: =SUM(H8:H38) -> 1223 | I39: =SUM(I8:I38) -> 35 | J39: =SUM(J8:J38) -> 1594 | K39: =SUM(K8:K38) -> 75 | L39: =SUM(L8:L38) -> 1973
B41: 2. Cán bộ quản lý
A43: Chức danh | E43: Họ và tên | H43: Ngày sinh | I43: ĐT DD | K43: Năm bổ nhiệm gần nhất | L43: Lần thứ | M43: Địa chỉ liên lạc
A44: 1 | B44: Hiệu trưởng | E44: Phạm Hữu Lộc | H44: 24163 | I44: 0903 828 252 | K44: 2014 | L44: 1 | M44: 80/59/27 Dương Quảng Hàm, P.5, Q. Gò Vấp, TPHCM
A45: 2 | B45: P.Hiệu trưởng | E45: Nguyễn Văn Dũng | H45: 21553 | I45: 0903382784 | K45: 2015 | L45: 3 | M45: 172 Phan Huy Ích, P.12, Q.Gò Vấp, TPHCM
A46: 3 | B46: P.Hiệu trưởng | E46: Đinh Văn Đệ | H46: 27253 | I46: 0918 216 994 | K46: 2015 | L46: 1 | M46: 130 Lê Lợi, P.3, Q. Gò Vấp, TPHCM
A47: 4 | B47: Bí thư Đoàn trường | E47: Nguyễn Thị Nhuận | H47: 28894 | I47: 0918445480 | K47: 2014 | L47: 5 | M47: 83/78/13 Năm Châu, P.11, Q.Tân Bình, TPHCM
A48: 5 | B48: Chủ tịch Công Đoàn | E48: Phạm Minh Nghĩa | H48: 23598 | I48: 0903348055 | K48: 2012 | L48: 1 | M48: 350/30C Hoàng Văn Thụ, P.4, Q.Tân Bình, TPHCM
A49: 6 | B49: Phụ trách Kế toán | E49: Nguyễn Kính | H49: 03/12/1965 | I49: 0913667668 | K49: 2016 | L49: 1 | M49: 402/43 Xô Viết Nghệ Tĩnh, P. 25, Q.Bình Thạnh, TPHCM
B51: 3. Giáo viên Trung học
A53: Môn | E53: Định mức | F53: Hiện có | G53: Biên chế | H53: Hợp đồng Sở | I53: Thừa | J53: Thiếu | K53: Hợp đồng trường | L53: Đề nghị bổ sung | M53: Ghi chú
A54: 1 | E54: 2 | F54: 3=4+5 | G54: 4 | H54: 5 | I54: 6=3-2 | J54: 7=2-3 | K54: 8 | L54: 9 | M54: 10
A55: Văn hóa:
A56: 1 | B56: Văn | F56: =G56+H56 -> 0 | K56: 1
A57: 2 | B57: Sử | F57: =G57+H57 -> 0
A58: 3 | B58: Địa | F58: =G58+H58 -> 0
A59: 4 | B59: GDCD | F59: =G59+H59 -> 0
A60: 5 | B60: Ngoại ngữ Anh | F60: =G60+H60 -> 13 | G60: 13 | M60: 01 GV sẽ nghỉ hưu T11/2016
A61: 6 | B61: Toán | F61: =G61+H61 -> 8 | G61: 8 | J61: 1 | M61: 01 GV sẽ nghỉ hưu T6/2016. Trường đang chờ QĐ phê duyệt kết quả xét tuyển viên chức đặc cách đối với ông Nguyễn Thành Nam, nguyên GV Toán Trường ĐH Thủ Dầu Một (đã tổ chức xét tuyển tại trường vào T01/2016).
A62: 7 | B62: Lý | F62: =G62+H62 -> 6 | G62: 6 | J62: 1 | M62: 01 GV sẽ nghỉ hưu T5/2016. Dự kiến điều chuyển GV Lê Phương Ngọc, tổ bộ môn Lý thuộc Trường THPT Lý Tự Trọng, về giảng dạy tại khối chuyên nghiệp từ năm học 2016-2017.
A63: 8 | B63: Hóa | F63: =G63+H63 -> 6 | G63: 6 | M63: Dự kiến điều chuyển GV Lê Thị Phương Thúy, tổ bộ môn Hóa thuộc Trường THPT Lý Tự Trọng, về giảng dạy tại khối chuyên nghiệp từ năm học 2016-2017.
A64: 9 | B64: Sinh | F64: =G64+H64 -> 0
A65: 10 | B65: KTCN | F65: =G65+H65 -> 0
A66: 11 | B66: KTNN | F66: =G66+H66 -> 0
A67: 12 | B67: KTNC | F67: =G67+H67 -> 0
A68: 13 | B68: Thể dục | F68: =G68+H68 -> 5 | G68: 5 | J68: 1 | M68: Dự kiến điều chuyển GV Ngô Thanh Điền, tổ bộ môn GDTC thuộc Trường THPT Lý Tự Trọng, về giảng dạy tại khối chuyên nghiệp từ năm học 2016-2017.
A69: 14 | B69: Q-Phòng | F69: =G69+H69 -> 0
A70: 15 | B70: Tin học phổ thông | F70: =G70+H70 -> 0
A71: 16 | B71: GV tâm lý | F71: =G71+H71 -> 0
B72: 4. Giảng Viên:
A73: Môn | E73: Định mức | F73: Hiện có | G73: Biên chế | H73: Hợp đồng Sở | I73: Thừa | J73: Thiếu | K73: Hợp đồng trường | L73: Trình độ Cử nhân | M73: Trình độ Thạc sĩ | N73: Trình độ Tiến sĩ | O73: Học hàm Phó Giáo sư | P73: Học hàm Giáo sư | Q73: Hệ số quy đổi theo TT57/2011/TT-BGDĐT
A74: Khoa Công Nghệ Thông Tin:
A75: 17 | B75: Tin học-Ứng dụng | F75: =G75+H75 -> 0 | Q75: =L75*1+M75*1.3+N75*1.5+O75*2+P75*3 -> 0
A76: 18 | B76: Mạng MT | F76: =G76+H76 -> 8 | G76: 8 | L76: 7 | M76: 1 | Q76: =L76*1+M76*1.3+N76*1.5+O76*2+P76*3 -> 8.3
A77: 19 | B77: Phần mềm | F77: =G77+H77 -> 9 | G77: 9 | K77: 1 | L77: 3 | M77: 6 | Q77: =L77*1+M77*1.3+N77*1.5+O77*2+P77*3 -> 10.8
A78: 20 | B78: Phần cứng | F78: =G78+H78 -> 0 | Q78: =L78*1+M78*1.3+N78*1.5+O78*2+P78*3 -> 0
A79: 21 | B79: Web-Internet | F79: =G79+H79 -> 0 | Q79: =L79*1+M79*1.3+N79*1.5+O79*2+P79*3 -> 0
A80: 22 | B80: Đồ họa | F80: =G80+H80 -> 0 | Q80: =L80*1+M80*1.3+N80*1.5+O80*2+P80*3 -> 0
A81: 23 | B81: Khoa học máy tính | F81: =G81+H81 -> 9 | G81: 9 | L81: 5 | M81: 4 | Q81: =L81*1+M81*1.3+N81*1.5+O81*2+P81*3 -> 10.2
A82: 24 | B82: ……………………… | F82: =G82+H82 -> 0 | Q82: =L82*1+M82*1.3+N82*1.5+O82*2+P82*3 -> 0
A83: 25 | B83: ……………………… | F83: =G83+H83 -> 0 | Q83: =L83*1+M83*1.3+N83*1.5+O83*2+P83*3 -> 0
A84: Khoa Điện-Điện tử:
A85: 26 | B85: Điện | F85: =G85+H85 -> 0 | Q85: =L85*1+M85*1.3+N85*1.5+O85*2+P85*3 -> 0
A86: 27 | B86: Điện CN | F86: =G86+H86 -> 15 | G86: 15 | L86: 5 | M86: 10 | Q86: =L86*1+M86*1.3+N86*1.5+O86*2+P86*3 -> 18
A87: 28 | B87: Điện tử | F87: =G87+H87 -> 17 | G87: 17 | L87: 7 | M87: 9 | N87: 1 | Q87: =L87*1+M87*1.3+N87*1.5+O87*2+P87*3 -> 20.2
A88: 29 | B88: Điện lạnh | F88: =G88+H88 -> 0 | Q88: =L88*1+M88*1.3+N88*1.5+O88*2+P88*3 -> 0
A89: 30 | B89: Nhiệt lạnh | F89: =G89+H89 -> 10 | G89: 10 | J89: 1 | K89: 1 | L89: 4 | M89: 5 | Q89: =L89*1+M89*1.3+N89*1.5+O89*2+P89*3 -> 10.5
A90: 31 | B90: ……………………… | F90: =G90+H90 -> 0 | Q90: =L90*1+M90*1.3+N90*1.5+O90*2+P90*3 -> 0
A91: 32 | B91: ……………………… | F91: =G91+H91 -> 0 | Q91: =L91*1+M91*1.3+N91*1.5+O91*2+P91*3 -> 0
A92: 33 | B92: ……………………… | F92: =G92+H92 -> 0 | Q92: =L92*1+M92*1.3+N92*1.5+O92*2+P92*3 -> 0
A93: Khoa Cơ khí:
A94: 34 | B94: Cơ khí | F94: =G94+H94 -> 24 | G94: 24 | L94: 14 | M94: 10 | Q94: =L94*1+M94*1.3+N94*1.5+O94*2+P94*3 -> 27
A95: 35 | B95: Chế tạo máy | F95: =G95+H95 -> 0 | Q95: =L95*1+M95*1.3+N95*1.5+O95*2+P95*3 -> 0
A96: 36 | B96: Động lực | F96: =G96+H96 -> 0 | Q96: =L96*1+M96*1.3+N96*1.5+O96*2+P96*3 -> 0
A97: 37 | B97: Kỹ thuật Ôtô | F97: =G97+H97 -> 19 | G97: 19 | L97: 7 | M97: 11 | N97: 1 | Q97: =L97*1+M97*1.3+N97*1.5+O97*2+P97*3 -> 22.8
A98: 38 | B98: Kỹ thuật hàn | F98: =G98+H98 -> 0 | Q98: =L98*1+M98*1.3+N98*1.5+O98*2+P98*3 -> 0
A99: 39 | B99: Kỹ thuật cơ sở | F99: =G99+H99 -> 0 | Q99: =L99*1+M99*1.3+N99*1.5+O99*2+P99*3 -> 0
A100: 40 | B100: Kinh tế vật tư | F100: =G100+H100 -> 0 | Q100: =L100*1+M100*1.3+N100*1.5+O100*2+P100*3 -> 0
A101: 41 | B101: Tài chính tín dụng | F101: =G101+H101 -> 0 | Q101: =L101*1+M101*1.3+N101*1.5+O101*2+P101*3 -> 0
A102: Khoa Kinh tế
A103: 42 | B103: Tài chính doanh nghiệp | F103: =G103+H103 -> 4 | G103: 4 | L103: 2 | M103: 2 | Q103: =L103*1+M103*1.3+N103*1.5+O103*2+P103*3 -> 4.6
A104: 43 | B104: Kế toán doanh nghiệp | F104: =G104+H104 -> 4 | G104: 4 | L104: 1 | M104: 3 | Q104: =L104*1+M104*1.3+N104*1.5+O104*2+P104*3 -> 4.9
A105: 44 | B105: Quản trị doanh nghiệp nhỏ và vừa | F105: =G105+H105 -> 4 | G105: 4 | M105: 3 | N105: 1 | Q105: =L105*1+M105*1.3+N105*1.5+O105*2+P105*3 -> 5.4
...

Sheet Mam non
A1: STT: | E1: Đơn vị:
A2: * Lưu ý: Chỉ nhập dữ liệu vào những ô màu vàng và in trên khổ giấy A4
G5: ="BẢNG SỐ LIỆU NHÂN SỰ NĂM HỌC"&" "&YEAR(TODAY())&"-"&YEAR(TODAY())+1 -> BẢNG SỐ LIỆU NHÂN SỰ NĂM HỌC 2016-2017
A6: Số điểm trường
A7: Loại hình đơn vị | B7: Hạng trường | G7: ="Số lớp dự kiến NH"&" "&YEAR(TODAY())&"-"&YEAR(TODAY())+1 -> Số lớp dự kiến NH 2016-2017 | H7: Nhà trẻ | I7: Từ 4-12 tháng | L7: Trong đó lớp bán trú | N7: =SUM($K$7:$K$10) -> 0 | P7: ="Số học sinh dự kiến NH"&" "&YEAR(TODAY())&"-"&YEAR(TODAY())+1 -> Số học sinh dự kiến NH 2016-2017 | Q7: Nhà trẻ | R7: Từ 4-12 tháng | U7: Trong đó Học sinh bán trú | W7: =SUM(T7:T10) -> 0 | Y7: 1. Cán bộ quản lý
B8: Nhà trẻ | D8: Mẫu giáo, mầm non | F8: Tổng cộng | I8: 13-18 tháng | R8: 13-18 tháng | Y8: Hiện có | AB8: Tổng cộng | AC8: Định mức biên chế | AE8: Thừa | AG8: Thiếu
B9: 1 | C9: 2 | D9: 1 | E9: 2 | I9: 19-24 tháng | R9: 19-24 tháng
B10: >=50 trẻ | C10: <50 trẻ | D10: >=9 nhóm, lớp | E10: <9 nhóm, lớp | I10: 25-36 tháng | R10: 25-36 tháng | Y10: HT | Z10: PHT | AC10: TT71 | AD10: VB 5344 | AE10: TT71 | AF10: VB 5344 | AG10: TT71 | AH10: VB 5344
F11: =COUNTA($B$11:$E$11) -> 0 | H11: Mẫu giáo | N11: =$I$11 -> 0 | Q11: Mẫu giáo | W11: =R11 -> 0 | AB11: =SUM(Y11:AA11) -> 0 | AC11: =IF(SUM($W$7:$X$11)>0,IF(OR($B$11="x",$D$11="x"),2,1)+1,0) -> 0 | AD11: =IF(SUM(W7:X11)>0,IF(OR(SUM(M7:M11)<>0,SUM(V7:V11)<>0),2,1)+1,0) -> 0 | AE11: =IF(AB11>AC11,AB11-AC11,0) -> 0 | AF11: =IF(AB11>AD11,AB11-AD11,0) -> 0 | AG11: =IF(AC11>AB11,AC11-AB11,0) -> 0 | AH11: =IF(AD11>AB11,AD11-AB11,0) -> 0
A14: 2. Giáo viên | K14: Tình trạng biên chế | L14: 3a. Nhân viên
A15: Môn | B15: Định mức TT06 | D15: Hiện có | F15: Thừa | G15: Thiếu | H15: Đề nghị bổ sung | I15: BS định mức | L15: 1.Thư viện | P15: 2.Bảo mẫu | T15: 3.Cấp dưỡng | X15: 4. Y tế | AB15: 5. Văn thư | AF15: 6. Kế toán
D16: Biên chế/ HĐ Quận/ Tập sự | E16: Hợp đồng trường | L16: Hiện có | M16: TTLT06/2015 | O16: ĐN bổ sung | P16: Hiện có | Q16: TTLT06/2015 | S16: ĐN bổ sung | T16: Hiện có | U16: TTLT06/2015 | W16: ĐN bổ sung | X16: Hiện có | Y16: TTLT06/2015 | AA16: ĐN bổ sung | AB16: Hiện có | AC16: TTLT06/2015 | AE16: ĐN bổ sung | AF16: Hiện có | AG16: TTLT06/2015 | AI16: ĐN bổ sung
A17: 1. Nhà trẻ | B17: =IF(W7>0,ROUND(W7/15,2),0) -> 0 | C17: =ROUND((IF(T7>0,T7/5,0)+IF(T8>0,T8/7,0)+IF(T9>0,T9/9,0)+IF(T10>0,T10/12,0)),2) -> 0 | F17: =IF(D17>B17,D17-B17,0) -> 0 | G17: =IF(D17<B17,B17-D17,0) -> 0 | I17: =IF(F17<G17,G17-F17,0) -> 0 | K17: Biên chế | M17: =[2]Dinhbien!$D$14 -> 0 | N17: =[2]Dinhbien!$F$14 -> 0 | Q17: =[2]Dinhbien!$D$15 -> 0 | R17: =IF(SUM($W$7:$X$11)>0,ROUND(SUM($W$7:$X$11)/100,2),0) -> 0 | U17: =IF(SUM($W$7:$X$11)>0,ROUND($W$11/50+$W$7/35,2),0) -> 0 | V17: =IF(SUM($W$7:$X$11)>0,IF(SUM($W$7:$X$11)>200,ROUND(SUM($W$7:$X$11)/70,2),ROUND(SUM($W$7:$X$11)/50,2)),0) -> 0 | Y17: =IF(SUM($W$7:$X$11)>0,[2]Dinhbien!$D$18,0) -> 0 | Z17: =IF(SUM($W$7:$X$11)>0,[2]Dinhbien!$F$18,0) -> 0 | AC17: =IF(SUM($W$7:$X$11)>0,IF(OR($B$11="x",$D$11="x"),[2]Dinhbien!$D$19,0),0) -> 0 | AD17: =IF(SUM($W$7:$X$11)>0,[2]Dinhbien!$F$19,0) -> 0 | AG17: =IF(SUM($W$7:$X$11)>0,[2]Dinhbien!$D$20,0) -> 0 | AH17: =IF(SUM($W$7:$X$11)>0,[2]Dinhbien!$F$20,0) -> 0
A18: 2. Mẫu giáo | B18: =IF(W11>0,ROUND(((I11-M11)*1.2)+(M11*2.2),2),0) -> 0 | C18: =IF(W11>0,ROUND(((I11-M11)*1.08)+(M11*2),2),0) -> 0 | F18: =IF(D18>B18,D18-B18,0) -> 0 | G18: =IF(D18<B18,B18-D18,0) -> 0 | I18: =IF(F18<G18,G18-F18,0) -> 0 | K18: HĐ trong chỉ tiêu BC
F19: =IF(D19>B19,D19-B19,0) -> 0 | G19: =IF(D19<B19,B19-D19,0) -> 0 | K19: HĐ NĐ68
F20: =IF(D20>B20,D20-B20,0) -> 0 | G20: =IF(D20<B20,B20-D20,0) -> 0 | K20: HĐ trường
F21: =IF(D21>B21,D21-B21,0) -> 0 | G21: =IF(D21<B21,B21-D21,0) -> 0
F22: =IF(D22>B22,D22-B22,0) -> 0 | G22: =IF(D22<B22,B22-D22,0) -> 0 | K22: Tình trạng biên chế | L22: 3b. Nhân viên
F23: =IF(D23>B23,D23-B23,0) -> 0 | G23: =IF(D23<B23,B23-D23,0) -> 0 | L23: 7. Thủ quỹ | P23: 8. Phục vụ | T23: 9. Bảo vệ | X23: 10. Khác
F24: =IF(D24>B24,D24-B24,0) -> 0 | G24: =IF(D24<B24,B24-D24,0) -> 0 | L24: Hiện có | M24: TTLT06/2015 | O24: ĐN bổ sung | P24: Hiện có | Q24: TTLT06/2015 | S24: ĐN bổ sung | T24: Hiện có | U24: TTLT06/2015 | W24: ĐN bổ sung | X24: Hiện có | Y24: TTLT06/2015 | Z24: VB 5344 | AA24: ĐN bổ sung
F25: =IF(D25>B25,D25-B25,0) -> 0 | G25: =IF(D25<B25,B25-D25,0) -> 0 | K25: Biên chế | M25: =[2]Dinhbien!$D$21 -> 0 | Q25: =[2]Dinhbien!$D$21 -> 0 | U25: =IF($F$11>0,IF(AND(OR($B$11="x",$D$11="x"),$C$6>1),$C$6-1+[2]Dinhbien!$F$23,IF(AND(OR($C$11="x",$E$11="x"),$C$6>1),$C$6-1+[2]Dinhbien!$F$24,IF(OR($B$11="x",$D$11="x"),3,2))),0) -> 0 | Y25: =IF($F$11>0,IF(AND(OR($B$11="x",$D$11="x"),$C$6>1),$C$6-1+[2]Dinhbien!$F$23,IF(AND(OR($C$11="x",$E$11="x"),$C$6>1),$C$6-1+[2]Dinhbien!$F$24,IF(OR($B$11="x",$D$11="x"),3,2))),0) -> 0
F26: =IF(D26>B26,D26-B26,0) -> 0 | G26: =IF(D26<B26,B26-D26,0) -> 0 | K26: HĐ trong chỉ tiêu BC
F27: =IF(D27>B27,D27-B27,0) -> 0 | G27: =IF(D27<B27,B27-D27,0) -> 0 | K27: HĐ NĐ68
F28: =IF(D28>B28,D28-B28,0) -> 0 | G28: =IF(D28<B28,B28-D28,0) -> 0 | K28: HĐ trường
F29: =IF(D29>B29,D29-B29,0) -> 0 | G29: =IF(D29<B29,B29-D29,0) -> 0
F30: =IF(D30>B30,D30-B30,0) -> 0 | G30: =IF(D30<B30,B30-D30,0) -> 0 | K30: TỔNG SỐ CBCCVC HIỆN CÓ (Chưa tính hợp đồng trường) | L30: CBQL | M30: =$AB$11 -> 0 | N30: =SUM(M30:M32) -> 0 | P30: TỔNG SỐ CBCCVC HIỆN CÓ (Tính luôn hợp đồng trường) | Q30: CBQL | R30: =$AB$11 -> 0 | S30: =IF(SUM(R30:R32)<>SUM($I$36:$I$38),"?",SUM(R30:R32)) -> 0 | U30: TỔNG SỐ CBCCVC THEO TT71 | V30: CBQL | W30: =$AC$11 -> 0 | X30: =SUM(W30:W32) -> 0 | Z30: TỔNG SỐ CBCCVC THEO VB5344 | AA30: CBQL | AB30: =$AD$11 -> 0 | AC30: =SUM(AB30:AB32) -> 0
F31: =IF(D31>B31,D31-B31,0) -> 0 | G31: =IF(D31<B31,B31-D31,0) -> 0 | L31: GV | M31: =$D$33 -> 0 | Q31: GV | R31: =SUM($D$33:$E$33) -> 0 | V31: GV | W31: =$B$33 -> 0 | AA31: GV | AB31: =$C$33 -> 0
F32: =IF(D32>B32,D32-B32,0) -> 0 | G32: =IF(D32<B32,B32-D32,0) -> 0 | L32: NV | M32: =SUM($L$17:$L$19)+SUM($P$17:$P$19)+SUM($T$17:$T$19)+SUM($X$25:$X$27)+SUM($X$17:$X$19)+SUM($AB$17:$AB$19)+SUM($AF$17:$AF$19)+SUM($L$25:$L$27)+SUM($P$25:$P$27)+SUM(T25:T27) -> 0 | Q32: NV | R32: =SUM($L$17:$L$20)+SUM($P$17:$P$20)+SUM($T$17:$T$20)+SUM($X$25:$X$28)+SUM($X$17:$X$20)+SUM($AB$17:$AB$20)+SUM($AF$17:$AF$20)+SUM($L$25:$L$28)+SUM($P$25:$P$28)+SUM(X25:X28)+SUM($T$25:$T$28) -> 0 | V32: NV | W32: =ROUND($M$17+$Q$17+$U$17+$Y$17+$AC$17+$AG$17+$M$25+$Q$25+$U$25,0) -> 0 | AA32: NV | AB32: =ROUND($N$17+$R$17+$V$17+$Z$17+$AD$17+$AH$17+$N$25+$R$25+$V$25,0) -> 0
A33: Cộng | B33: =ROUND(SUM(B17:B32),0) -> 0 | C33: =ROUND(SUM(C17:C32),0) -> 0 | D33: =ROUND(SUM(D17:D32),0) -> 0 | E33: =ROUND(SUM(E17:E32),0) -> 0 | F33: =ROUND(SUM(F17:F32),0) -> 0 | G33: =ROUND(SUM(G17:G32),0) -> 0 | H33: =ROUND(SUM(H17:H32),0) -> 0 | I33: =ROUND(SUM(I17:I32),0) -> 0 | K33: Diễn giải thêm (nếu có):
A35: Chất lượng đội ngũ nhân sự (kể cả biên chế và Hợp đồng) | B35: Đội ngũ | C35: TC | D35: CĐ | E35: ĐH | F35: ThS | G35: TS | H35: Khác | I35: Cộng
B36: CBQL | I36: =SUM(C36:H36) -> 0
B37: Giáo viên | I37: =SUM(C37:H37) -> 0
B38: Nhân viên | I38: =SUM(C38:H38) -> 0
A39: Ghi chú:
A40: * Chỉ tính định mức biên chế cho loại hình trường CÔNG LẬP | AC40: ="Ngày "&DAY(TODAY())&" tháng "&MONTH(TODAY())&" năm "&YEAR(TODAY()) -> Ngày 15 tháng 3 năm 2016
A41: * Định mức biên chế sự nghiệp không bao gồm các chức danh hợp đồng quy định tại Nghị định 68/2000/NĐ-CP ngày 17/11/2000 | AC41: Thủ trưởng đơn vị
A42: * Thông tư liên tịch 06/2015/TTLT-BGDĐT-BNV ngày 16/3/2015 QUY ĐỊNH VỀ DANH MỤC KHUNG VỊ TRÍ VIỆC LÀM VÀ ĐỊNH MỨC SỐ LƯỢNG NGƯỜI LÀM VIỆC TRONG CÁC CƠ SỞ GIÁO DỤC MẦM NON CÔNG LẬP
A43: * Thông tư số 59/2008/TT-BGDĐT ngày 31/10/2008 của Bộ Giáo dục và Đào tạo về hướng dẫn định mức biên chế sự nghiệp giáo dục ở các trường chuyên biệt công lập
AC46: …………………………………………….

Sheet heso_LOP_thuong
B1: SỐ TIẾT HỌC TRONG TUẦN VÀ HỆ SỐ MÔN HỌC ĐỐI VỚI LỚP THƯỜNG | K1: Ngày in: | L1: =TODAY() -> 42444
A2: (Điều chỉnh theo CV số 7608/BGDĐT-GDTrH ngày 31/8/2009 của Bộ Giáo dục và Đào tạo)
B3: KHỐI THCS | H3: KHỐI THPT Ban cơ bản
A4: Lớp Môn | B4: 6 | C4: 7 | D4: 8 | E4: 9 | F4: TS tiết | G4: Hệ số | H4: 10 | I4: 11 | J4: 12 | K4: TS tiết | L4: Hệ số
A5: Văn | B5: 4 | C5: 4 | D5: 4 | E5: 5 | F5: =SUM(B5:E5) -> 17 | G5: =(F5+1.33)*1.9/$F$21 -> 0.31095536 | H5: 3 | I5: 3.5 | J5: 3 | K5: =SUM(H5:J5) -> 9.5 | L5: =(K5+2)*2.25/$K$21 -> 0.30263158
A6: Sử | B6: 1 | C6: 2 | D6: 1.5 | E6: 1.5 | F6: =SUM(B6:E6) -> 6 | G6: =F6*1.9/$F$21 -> 0.10178571 | H6: 1.5 | I6: 1 | J6: 1.5 | K6: =SUM(H6:J6) -> 4 | L6: =K6*2.25/$K$21 -> 0.10526316
A7: Địa | B7: 1 | C7: 2 | D7: 1.5 | E7: 1.5 | F7: =SUM(B7:E7) -> 6 | G7: =F7*1.9/$F$21 -> 0.10178571 | H7: 1.5 | I7: 1 | J7: 1.5 | K7: =SUM(H7:J7) -> 4 | L7: =K7*2.25/$K$21 -> 0.10526316
A8: GDCD | B8: 1 | C8: 1 | D8: 1 | E8: 1 | F8: =SUM(B8:E8) -> 4 | G8: =F8*1.9/$F$21 -> 0.067857143 | H8: 1 | I8: 1 | J8: 1 | K8: =SUM(H8:J8) -> 3 | L8: =K8*2.25/$K$21 -> 0.078947368
A9: Ngoại ngữ | B9: 3 | C9: 3 | D9: 3 | E9: 2 | F9: =SUM(B9:E9) -> 11 | G9: =(F9+1.33)*1.9/$F$21 -> 0.20916964 | H9: 3 | I9: 3 | J9: 3 | K9: =SUM(H9:J9) -> 9 | L9: =(K9+2)*2.25/$K$21 -> 0.28947368
A10: Toán | B10: 4 | C10: 4 | D10: 4 | E10: 4 | F10: =SUM(B10:E10) -> 16 | G10: =(F10+1.33)*1.9/$F$21 -> 0.29399107 | H10: 3 | I10: 3.5 | J10: 3.5 | K10: =SUM(H10:J10) -> 10 | L10: =(K10+2)*2.25/$K$21 -> 0.31578947
A11: Lý | B11: 1 | C11: 1 | D11: 1 | E11: 2 | F11: =SUM(B11:E11) -> 5 | G11: =(F11+1.33)*1.9/$F$21 -> 0.10738393 | H11: 2 | I11: 2 | J11: 2 | K11: =SUM(H11:J11) -> 6 | L11: =(K11+2)*2.25/$K$21 -> 0.21052632
A12: Hóa | B12: 0 | C12: 0 | D12: 2 | E12: 2 | F12: =SUM(B12:E12) -> 4 | G12: =(F12+1.33)*1.9/$F$21 -> 0.090419643 | H12: 2 | I12: 2 | J12: 2 | K12: =SUM(H12:J12) -> 6 | L12: =(K12+2)*2.25/$K$21 -> 0.21052632
A13: Sinh | B13: 2 | C13: 2 | D13: 2 | E13: 2 | F13: =SUM(B13:E13) -> 8 | G13: =(F13+1.33)*1.9/$F$21 -> 0.15827679 | H13: 1 | I13: 1.5 | J13: 1.5 | K13: =SUM(H13:J13) -> 4 | L13: =(K13+2)*2.25/$K$21 -> 0.15789474
A14: Công nghệ | B14: 2 | C14: 1.5 | D14: 1.5 | E14: 1 | F14: =SUM(B14:E14) -> 6 | G14: =F14*1.9/$F$21 -> 0.10178571 | H14: 1.5 | I14: 1.5 | J14: 1 | K14: =SUM(H14:J14) -> 4 | L14: =K14*2.25/$K$21 -> 0.10526316
A15: Thể dục | B15: 2 | C15: 2 | D15: 2 | E15: 2 | F15: =SUM(B15:E15) -> 8 | G15: =F15*1.9/$F$21 -> 0.13571429 | H15: 2 | I15: 2 | J15: 2 | K15: =SUM(H15:J15) -> 6 | L15: =K15*2.25/$K$21 -> 0.15789474
A16: Quốc phòng | H16: 1 | I16: 1 | J16: 1 | K16: =SUM(H16:J16) -> 3 | L16: =K16*2.25/$K$21 -> 0.078947368
A17: Âm nhạc | B17: 1 | C17: 1 | D17: 1 | E17: 0.5 | F17: =SUM(B17:E17) -> 3.5 | G17: =F17*1.9/$F$21 -> 0.059375
A18: Mỹ thuật | B18: 1 | C18: 1 | D18: 1 | E18: 0.5 | F18: =SUM(B18:E18) -> 3.5 | G18: =F18*1.9/$F$21 -> 0.059375
A19: Tin học | B19: 2 | C19: 2 | D19: 2 | F19: 6 | G19: =F19*1.9/$F$21 -> 0.10178571 | H19: 2 | I19: 1.5 | J19: 1.5 | K19: =SUM(H19:J19) -> 5 | L19: =K19*2.25/$K$21 -> 0.13157895
A20: Tự chọn | B20: 2 | C20: 2 | D20: 2 | E20: 2 | F20: =SUM(B20:E20) -> 8 | H20: 4 | I20: 4 | J20: 4 | K20: =SUM(H20:J20) -> 12
A21: Tổng cộng | B21: =SUM(B5:B20) -> 27 | C21: =SUM(C5:C20) -> 28.5 | D21: =SUM(D5:D20) -> 29.5 | E21: =SUM(E5:E20) -> 27 | F21: =SUM(F5:F20) -> 112 | G21: =SUM(G5:G20) -> 1.8996607 | H21: =SUM(H5:H20) -> 28.5 | I21: =SUM(I5:I20) -> 28.5 | ... L21: =SUM(L5:L20) -> 2.25
A23: * Hệ số môn = TS tiết môn x 1,90/TS tiết tuần | F23: =0.136/6 -> 0.022666667 | H23: * Hệ số môn = TS tiết môn x 2,25/TS tiết tuần | L23: =0.17/6 -> 0.028333333
A24: * Môn tự chọn: V,T,L,H,S,A | H24: * Môn tự chọn: V,T,L,H,S,A

Sheet heso_LOPchuyen
B1: SỐ TIẾT HỌC TRONG TUẦN VÀ HỆ SỐ MÔN HỌC ĐỐI VỚI LỚP CHUYÊN | K1: Ngày in: | L1: =TODAY() -> 42444
A2: (Điều chỉnh theo Thông tư số 59/2008/TT-BGDĐT ngày 31/10/2008 của Bộ Giáo dục và Đào tạo)
B3: KHỐI THCS | H3: KHỐI THPT Ban cơ bản
A4: Lớp Môn | B4: 6 | C4: 7 | D4: 8 | E4: 9 | F4: TS tiết | G4: Hệ số | H4: 10 | I4: 11 | J4: 12 | K4: TS tiết | L4: Hệ số
A5: Văn | B5: 4 | C5: 4 | D5: 4 | E5: 5 | F5: =SUM(B5:E5) -> 17 | G5: 0.49516964 | H5: 3 | I5: 3.5 | J5: 3 | K5: 9.5 | L5: 0.39643606
A6: Sử | B6: 1 | C6: 2 | D6: 1.5 | E6: 1.5 | F6: =SUM(B6:E6) -> 6 | G6: 0.19070536 | H6: 1.5 | I6: 1 | J6: 1.5 | K6: =SUM(H6:J6) -> 4 | L6: 0.18197065
A7: Địa | B7: 1 | C7: 2 | D7: 1.5 | E7: 1.5 | F7: =SUM(B7:E7) -> 6 | G7: 0.19070536 | H7: 1.5 | I7: 1 | J7: 1.5 | K7: =SUM(H7:J7) -> 4 | L7: 0.18197065
A8: GDCD | B8: 1 | C8: 1 | D8: 1 | E8: 1 | F8: =SUM(B8:E8) -> 4 | G8: 0.11071429 | H8: 1 | I8: 1 | J8: 1 | K8: =SUM(H8:J8) -> 3 | L8: 0.11698113
A9: Ngoại ngữ | B9: 3 | C9: 3 | D9: 3 | E9: 2 | F9: =SUM(B9:E9) -> 11 | G9: 0.32909821 | H9: 3 | I9: 3 | J9: 3 | K9: =SUM(H9:J9) -> 9 | L9: 0.3769392
A10: Toán | B10: 4 | C10: 4 | D10: 4 | E10: 4 | F10: =SUM(B10:E10) -> 16 | G10: 0.46749107 | H10: 3 | I10: 3.5 | J10: 3.5 | K10: =SUM(H10:J10) -> 10 | L10: 0.41593291
A11: Lý | B11: 1 | C11: 1 | D11: 1 | E11: 2 | F11: =SUM(B11:E11) -> 5 | G11: 0.16302679 | H11: 2 | I11: 2 | J11: 2 | K11: =SUM(H11:J11) -> 6 | L11: 0.25995807
A12: Hóa | B12: 0 | C12: 0 | D12: 2 | E12: 2 | F12: =SUM(B12:E12) -> 4 | G12: 0.13534821 | H12: 2 | I12: 2 | J12: 2 | K12: =SUM(H12:J12) -> 6 | L12: 0.25995807
A13: Sinh | B13: 2 | C13: 2 | D13: 2 | E13: 2 | F13: =SUM(B13:E13) -> 8 | G13: 0.2460625 | H13: 1 | I13: 1.5 | J13: 1.5 | K13: =SUM(H13:J13) -> 4 | L13: 0.18197065
A14: Công nghệ | B14: 2 | C14: 1.5 | D14: 1.5 | E14: 1 | F14: =SUM(B14:E14) -> 6 | G14: 0.16607143 | H14: 1.5 | I14: 1.5 | J14: 1 | K14: =SUM(H14:J14) -> 4 | L14: 0.15597484
A15: Thể dục | B15: 2 | C15: 2 | D15: 2 | E15: 2 | F15: =SUM(B15:E15) -> 8 | G15: 0.22142857 | H15: 2 | I15: 2 | J15: 2 | K15: =SUM(H15:J15) -> 6 | L15: 0.23396226
A16: Quốc phòng | H16: 1 | I16: 1 | J16: 1 | K16: =SUM(H16:J16) -> 3 | L16: 0.11698113
A17: Âm nhạc | B17: 1 | C17: 1 | D17: 1 | E17: 0.5 | F17: =SUM(B17:E17) -> 3.5 | G17: 0.096875
A18: Mỹ thuật | B18: 1 | C18: 1 | D18: 1 | E18: 0.5 | F18: =SUM(B18:E18) -> 3.5 | G18: 0.096875
A19: Tin học | B19: 2 | C19: 2 | D19: 2 | F19: 6 | G19: 0.19070536 | H19: 2 | I19: 1.5 | J19: 1.5 | K19: =SUM(H19:J19) -> 5 | L19: 0.22096436
A20: Tự chọn | B20: 2 | C20: 2 | D20: 2 | E20: 2 | F20: =SUM(B20:E20) -> 8 | H20: 2 | I20: 2 | J20: 2 | K20: =SUM(H20:J20) -> 6
A21: Tổng cộng | B21: =SUM(B5:B20) -> 27 | C21: =SUM(C5:C20) -> 28.5 | D21: =SUM(D5:D20) -> 29.5 | E21: =SUM(E5:E20) -> 27 | F21: =SUM(F5:F20) -> 112 | G21: =SUM(G5:G20) -> 3.1002768 | H21: =SUM(H5:H20) -> 26.5 | I21: =SUM(I5:I20) -> 26.5 | ... L21: =SUM(L5:L20) -> 3.1
A23: * Hệ số môn = TS tiết môn x 3.1/TS tiết tuần | H23: * Hệ số môn = TS tiết môn x 3.1/TS tiết tuần

Sheet heso_LOP_GDTX
A1: SỐ TIẾT HỌC TRONG TUẦN VÀ HỆ SỐ MÔN HỌC GIÁO DỤC THƯỜNG XUYÊN | K1: Ngày in: | L1: =TODAY() -> 42444
A2: (Kèm theo CV số 8298/BGDĐT-GDTX ngày 21/9/2009 của Bộ Giáo dục và Đào tạo)
B3: KHỐI THCS | H3: KHỐI THPT
A4: Lớp Môn | B4: 6 | C4: 7 | D4: 8 | E4: 9 | F4: TS tiết | G4: Hệ số | H4: 10 | I4: 11 | J4: 12 | K4: TS tiết | L4: Hệ số
A5: Văn | B5: 4 | C5: 4 | D5: 4 | E5: 5 | F5: 16 | G5: =F5*1.39/F$15 -> 0.2647619 | H5: 3 | I5: 3.5 | J5: 3 | K5: =SUM(H5:J5) -> 9.5 | L5: 0.23880952
A6: Sử | B6: 1 | C6: 2 | D6: 1.5 | E6: 1.5 | F6: =SUM(B6:E6) -> 6 | G6: =F6*1.39/F$15 -> 0.099285714 | H6: 1.5 | I6: 1 | J6: 1.5 | K6: =SUM(H6:J6) -> 4 | L6: 0.094761905
A7: Địa | B7: 1 | C7: 2 | D7: 1.5 | E7: 1.5 | F7: =SUM(B7:E7) -> 6 | G7: =F7*1.39/F$15 -> 0.099285714 | H7: 1.5 | I7: 1 | J7: 1.5 | K7: =SUM(H7:J7) -> 4 | L7: 0.084761905
A8: GDCD | B8: 1 | C8: 1 | D8: 1 | E8: 1 | F8: =SUM(B8:E8) -> 4 | G8: =F8*1.39/F$15 -> 0.066190476 | H8: 1 | I8: 1 | J8: 1 | K8: =SUM(H8:J8) -> 3 | L8: 0.058571429
A9: Ngoại ngữ | B9: 3 | C9: 3 | D9: 3 | E9: 2 | F9: =SUM(B9:E9) -> 11 | G9: =F9*1.39/F$15 -> 0.18202381 | H9: 3 | I9: 3 | J9: 3 | K9: =SUM(H9:J9) -> 9 | L9: 0.21571429
A10: Toán | B10: 4 | C10: 4 | D10: 4 | E10: 4 | F10: =SUM(B10:E10) -> 16 | G10: =F10*1.39/F$15 -> 0.2647619 | H10: 3.5 | I10: 4 | J10: 4 | K10: =SUM(H10:J10) -> 11.5 | L10: 0.29119048
A11: Lý | B11: 1 | C11: 1 | D11: 1 | E11: 2 | F11: =SUM(B11:E11) -> 5 | G11: =F11*1.39/F$15 -> 0.082738095 | H11: 2 | I11: 2 | J11: 2 | K11: =SUM(H11:J11) -> 6 | L11: 0.14714286
A12: Hóa | B12: 0 | C12: 0 | D12: 2 | E12: 2 | F12: =SUM(B12:E12) -> 4 | G12: =F12*1.39/F$15 -> 0.066190476 | H12: 2 | I12: 2 | J12: 2 | K12: =SUM(H12:J12) -> 6 | L12: 0.14714286
A13: Sinh | B13: 2 | C13: 2 | D13: 2 | E13: 2 | F13: =SUM(B13:E13) -> 8 | G13: =F13*1.39/F$15 -> 0.13238095 | H13: 1 | I13: 1.5 | J13: 1.5 | K13: =SUM(H13:J13) -> 4 | L13: 0.084761905
A14: Tin học | B14: 2 | C14: 2 | D14: 2 | E14: 2 | F14: =SUM(B14:E14) -> 8 | G14: =F14*1.39/F$15 -> 0.13238095 | H14: 2 | I14: 2 | J14: 2 | K14: =SUM(H14:J14) -> 6 | L14: 0.13714286
A15: Tổng cộng | B15: =SUM(B5:B14) -> 19 | C15: =SUM(C5:C14) -> 21 | D15: =SUM(D5:D14) -> 22 | E15: =SUM(E5:E14) -> 23 | F15: =SUM(F5:F14) -> 84 | G15: =SUM(G5:G14) -> 1.39 | H15: =SUM(H5:H14) -> 20.5 | I15: =SUM(I5:I14) -> 21 | ... L15: =SUM(L5:L14) -> 1.5

Sheet DinhBien
A1: BẢNG SỐ LIỆU TÍNH ĐỊNH MỨC BIÊN CHẾ TRONG TRƯỜNG MẦM NON , PHỔ THÔNG VÀ TRUNG TÂM GIÁO DỤC THƯỜNG XUYÊN
A2: Định mức biên chế sự nghiệp không bao gồm các chức danh HĐ quy định tại NĐ68/2000/NĐ-CP ngày 17/11/2000 và giáo viên chuyên trách phổ cập
A3: Mầm non
A4: STT | B4: Chức danh | C4: Mô tả chức danh | D4: Định mức theo TT06 | E4: Ghi chú 1
A5: 1 | B5: Hiệu trưởng | D5: 1
A6: 2 | B6: Phó Hiệu trưởng | D6: 1 | E6: Không có bán trú
D7: 2 | E7: Bán trú
A8: 3 | B8: Giáo viên nhà trẻ | D8: 2.5 | E8: 2,5 giáo viên/ nhóm trẻ
A12: 4 | B12: Giáo viên mẫu giáo | D12: 2.2 | E12: 2,2 cô/lớp 2 buổi/ ngày
D13: 1.2 | E13: 1,2 cô/ lớp 1 buổi/ ngày
A16: 5 | B16: Thư viện | D16: 0
A17: 6 | B17: Bảo mẫu | D17: 0
A18: 7 | B18: Cấp dưỡng | D18: 50 | E18: 50 trẻ mẫu giáo/cô
D19: 35 | E19: 35 trẻ nhà trẻ/cô
A20: 8 | B20: Y tế | D20: 1
A21: 9 | B21: Văn thư | D21: 1 | E21: Trường hạng 1
D22: 0 | E22: Trường hạng 2
A23: 10 | B23: Kế toán | D23: 1
A24: 11 | B24: Thủ quỹ | D24: 0
A25: 12 | B25: Phục vụ | D25: 1
A26: 13 | B26: Bảo vệ | D26: 2
A30: Tiểu học
A31: STT | B31: Chức danh | C31: Mô tả chức danh | D31: Định mức theo TT35 | E31: Ghi chú 1
A32: 1 | B32: Hiệu trưởng | D32: 1 | E32: Mỗi lớp 35 học sinh
A33: 2 | B33: Phó Hiệu trưởng | D33: 2 | E33: Trường hạng 1
D34: 1 | E34: Trường hạng 2,3
A35: 3 | B35: Giáo viên | D35: 1.5 | E35: Trường 2 buổi/ngày
D36: 1.2 | E36: Trường 1 buổi/ngày
A37: 4 | B37: Tổng phụ trách đội | D37: 1
A38: 5 | B38: Giám thị | D38: 0
A39: 6 | B39: Học vụ | D39: 0
A41: 7 | B41: Thư viện - thiết bị | D41: 2 | E41: Trường hạng 1
D42: 1 | E42: Trường hạng 2,3
A43: 8 | B43: Bảo mẫu | D43: 0
A44: 9 | B44: Cấp dưỡng | D44: 0
A45: 10 | B45: Phòng vi tính | D45: 0
A46: 11 | B46: Y tế | D46: 1 | E46: Trường hạng 1
D47: 0.5 | E47: Trường hạng 2,3
A48: 12 | B48: Văn thư | D48: 0.5
A50: 13 | B50: Kế toán | D50: 1 | E50: Trường hạng 1
D51: 0.5 | E51: Trường hạng 2,3
A52: 14 | B52: Thủ quỹ | D52: 0.5
A54: 15 | B54: Phục vụ | D54: 2
A57: 16 | B57: Bảo vệ | D57: 2
A60: THCS
A61: STT | B61: Chức danh | C61: Mô tả chức danh | D61: Định mức theo TT35 | E61: Ghi chú 1
A62: 1 | B62: Hiệu trưởng | D62: 1
A63: 2 | B63: Phó Hiệu trưởng | D63: 2 | E63: Trường hạng 1
D64: 1 | E64: Trường hạng 2,3
A66: 3 | B66: Giáo viên | D66: 1.9 | E66: Lớp có 45 học sinh
A67: 4 | B67: Tổng phụ trách đội | D67: 1
A68: 5 | B68: Giáo viên tâm lý | D68: 0
A69: 6 | B69: Giám thị | D69: 0
A70: 7 | B70: Học vụ | D70: 0
A71: 8 | B71: Thư viện | D71: 1
A72: 9 | B72: Thiết bị | D72: 2 | E72: Trường hạng 1
D73: 1 | E73: Trường hạng 2,3
A74: 10 | B74: Thí nghiệm | D74: 0
A75: 11 | B75: Phòng nghe nhìn-vi tính | D75: 0
A76: 12 | B76: Y tế | D76: 1
A77: 13 | B77: Văn thư-đánh máy | D77: 1 | E77: Trường ngoại hạng
D78: 0.5 | E78: Trường hạng 1,2,3
A79: 14 | B79: Kế toán | D79: 1
A80: 15 | B80: Thủ quỹ | D80: 1 | E80: Trường ngoại hạng
D81: 0.5 | E81: Trường hạng 1,2,3
A82: 16 | B82: Phục vụ | D82: 2
A85: 17 | B85: Bảo vệ | D85: 2
A89: THPT
A90: STT | B90: Chức danh | C90: Mô tả chức danh | D90: Định mức theo TT35/TT59 | E90: Ghi chú 1
A91: 1 | B91: Hiệu trưởng | D91: 1
A92: 2 | B92: Phó Hiệu trưởng | D92: 3 | E92: Trường hạng 1, chuyên <= 3, tàn tật <=2
D93: 2 | E93: Trường hạng 2
D94: 1 | E94: Trường hạng 3
A95: 3 | B95: Giáo viên | D95: 2.25 | E95: Lớp có 45 học sinh, trường chuyên: 3.1, khuyết tật: 1.5
A96: 4 | B96: Trợ lý thanh niên | D96: 1 | E96: hoặc TPT đội đối với trường khuyết tật
A97: 5 | B97: Giáo viên tâm lý | D97: 0
A99: 6 | B99: Giám thị | D99: 0
A100: 7 | B100: Học vụ | D100: 0 | E100: 2 đối với trường chuyên, khuyết tật
A101: 8 | B101: Thư viện | C101: Đối với trường khuyết tật, chỉ được 1 biên chế và kiêm nhiệm các công tác còn lại | D101: 1 | E101: 2 đối với trường chuyên
A102: 9 | B102: Thiết bị | D102: 2 | E102: Trường hạng 1, đối với trường chuyên: 2 biên chế
D103: 1 | E103: Trường hạng 2,3
A104: 10 | B104: Thí nghiệm | D104: 0 | E104: đối với trường chuyên: 2 biên chế
A105: 11 | B105: Phòng nghe nhìn-vi tính | D105: 0
A106: 12 | B106: Y tế | D106: 1 | E106: đối với trường chuyên: 2 biên chế
A107: 13 | B107: Văn thư-đánh máy | D107: 1 | E107: Trường ngoại hạng, trường chuyên, khuýêt tật
D108: 0.5 | E108: Trường hạng 1,2,3
A109: 14 | B109: Kế toán | D109: 1
A110: 15 | B110: Thủ quỹ | D110: 1 | E110: Trường ngoại hạng, trường chuyên (KTật: VThư KN)
D111: 0.5 | E111: Trường hạng 1,2,3
A112: 16 | B112: Phục vụ | D112: 2
A115: 17 | B115: Bảo vệ | D115: 2
A117: 18 | B117: Kỹ thuật viên tin học | D117: 1 | E117: trường chuyên (KTV hoặc Kỹ sư)
A118: TTGDTX
A119: STT | B119: Chức danh | C119: Mô tả chức danh | D119: Định mức theo QĐ01 | E119: Ghi chú 1
A120: 1 | B120: Giám Đốc | D120: 1
A121: 2 | B121: Phó Giám Đốc | D121: 2 | E121: TT có từ 18 lớp
D122: 1 | E122: Dưới 18 lớp
A123: 3 | B123: Giáo viên | D123: 0 | E123: Do Giám đốc quy định
A125: 4 | B125: Trợ lý thanh niên | D125: 1
B126: Giáo vụ | D126: 0
...
